BEGIN:VCALENDAR
VERSION:2.0
PRODID:-//Fundacja ART - ECPv6.15.17.1//NONSGML v1.0//EN
CALSCALE:GREGORIAN
METHOD:PUBLISH
X-WR-CALNAME:Fundacja ART
X-ORIGINAL-URL:https://fundacjaart.pl
X-WR-CALDESC:Wydarzenia dla Fundacja ART
REFRESH-INTERVAL;VALUE=DURATION:PT1H
X-Robots-Tag:noindex
X-PUBLISHED-TTL:PT1H
BEGIN:VTIMEZONE
TZID:Europe/Warsaw
BEGIN:DAYLIGHT
TZOFFSETFROM:+0100
TZOFFSETTO:+0200
TZNAME:CEST
DTSTART:20230326T010000
END:DAYLIGHT
BEGIN:STANDARD
TZOFFSETFROM:+0200
TZOFFSETTO:+0100
TZNAME:CET
DTSTART:20231029T010000
END:STANDARD
BEGIN:DAYLIGHT
TZOFFSETFROM:+0100
TZOFFSETTO:+0200
TZNAME:CEST
DTSTART:20240331T010000
END:DAYLIGHT
BEGIN:STANDARD
TZOFFSETFROM:+0200
TZOFFSETTO:+0100
TZNAME:CET
DTSTART:20241027T010000
END:STANDARD
BEGIN:DAYLIGHT
TZOFFSETFROM:+0100
TZOFFSETTO:+0200
TZNAME:CEST
DTSTART:20250330T010000
END:DAYLIGHT
BEGIN:STANDARD
TZOFFSETFROM:+0200
TZOFFSETTO:+0100
TZNAME:CET
DTSTART:20251026T010000
END:STANDARD
BEGIN:DAYLIGHT
TZOFFSETFROM:+0100
TZOFFSETTO:+0200
TZNAME:CEST
DTSTART:20260329T010000
END:DAYLIGHT
BEGIN:STANDARD
TZOFFSETFROM:+0200
TZOFFSETTO:+0100
TZNAME:CET
DTSTART:20261025T010000
END:STANDARD
BEGIN:DAYLIGHT
TZOFFSETFROM:+0100
TZOFFSETTO:+0200
TZNAME:CEST
DTSTART:20270328T010000
END:DAYLIGHT
BEGIN:STANDARD
TZOFFSETFROM:+0200
TZOFFSETTO:+0100
TZNAME:CET
DTSTART:20271031T010000
END:STANDARD
END:VTIMEZONE
BEGIN:VEVENT
DTSTART;TZID=Europe/Warsaw:20260214T170000
DTEND;TZID=Europe/Warsaw:20260214T210000
DTSTAMP:20260420T173304
CREATED:20260126T162742Z
LAST-MODIFIED:20260203T091749Z
UID:28526-1771088400-1771102800@fundacjaart.pl
SUMMARY:...a na imię jej miłość - Fundacja A.R.T. i Dom Kultury Pragi zapraszają na 378. urodziny Pragi
DESCRIPTION:„…a na imię jej miłość”\n  \nDom Kultury Praga oraz Fundacja A.R.T. zapraszają na wieczór\, w którym Praga świętuje swoje 378. urodziny po swojemu: muzyką\, tańcem i bliskością.\n\n  Pałacyk Konopackiego\n\n  14.02.2025 (sobota)\n\nProgram wydarzenia:\n17:00–18:00 Jubileusz 15-lecia „Cała Praga Śpiewa” \nKoncert jubileuszowy i urodzinowy tort. Będzie głośno\, serdecznie i naprawdę prasko. \n18:00–19:00 Animacje taneczne Silver Stars  \nDziewczyny z Klubu Seniora Silver Stars z Agnieszką Tobotą na czele. Ruch\, energia i wspólna zabawa bez bariery wieku. \n19:00–21:00 Potańcówka urodzinowa  \n  DJ Skorp \nPS. Mile widziane czerwone stroje i dodatki. Nie muszą być idealne. Mają być Twoje. \nTańczymy\, świętujemy\, jesteśmy razem. \n\nWażne:\n\nLiczba miejsc ograniczona!\nWejściówki do odebrania od 02.02.2026: \n\n•  Pałacyk Konopackiego \n\n•  Fundacja A.R.T.\, ul. Dąbrowszczaków 8\, lok. 111 \n\nDo zobaczenia na Pradze. 
URL:https://fundacjaart.pl/nasze-dzialanie/a-na-imie-jej-milosc-fundacja-a-r-t-i-dom-kultury-pragi-zapraszaja-na-378-urodziny-pragi/
LOCATION:Pałacyk Konopackiego\, Strzelecka 11/13\, Warszawa\, Mazowieckie\, 03-433\, Poland
CATEGORIES:Ratujemy
ATTACH;FMTTYPE=image/png:https://fundacjaart.pl/wp-content/uploads/2026/01/wydarzenia-2025-wlasciwe-1200-x-628-px-1.png
ORGANIZER;CN="Fundacja ART":MAILTO:recepcja@fundacjaart.pl
END:VEVENT
BEGIN:VEVENT
DTSTART;TZID=Europe/Warsaw:20241129T170000
DTEND;TZID=Europe/Warsaw:20241129T190000
DTSTAMP:20260420T173304
CREATED:20241121T143417Z
LAST-MODIFIED:20241121T150728Z
UID:24796-1732899600-1732906800@fundacjaart.pl
SUMMARY:Potańcówka dla Seniorów 60+ 🎶💃🕺
DESCRIPTION:*Zapraszamy serdecznie na wyjątkową potańcówkę w Pałacyku Konopackiego na Pradze Północ!* \nTo świetna okazja do wspólnej zabawy\, rozmów i tańców przy wspaniałej muzyce. \n*Kiedy?* \n *29 listopada 2024 r.* \n Start: *godzina 17:00* \n Zabawa potrwa do *19:00* \n*Co w programie?* \n Występ Roberta Lipki \n Gościnnie wystąpi zespół *„Cała Praga śpiewa”* \n*Dla kogo?* \n *Seniorki i Seniorzy 60+* \n*Gdzie?* \n *Pałacyk Konopackiego*\, Praga Północ \n*Zapisy obowiązkowe!* \n\nmailowo: recepcja@fundacjaart.pl\ntelefonicznie: 885 552 222\n\n  \nCzekamy na Was z uśmiechem i dobrym nastrojem!  \nProjekt „Seniorzy wiele warci 6” dofinansowany ze środków programu wieloletniego na rzecz Osób Starszych „Aktywni+ ” na lata 2021-2025
URL:https://fundacjaart.pl/nasze-dzialanie/potancowka-dla-seniorow-60-%f0%9f%8e%b6%f0%9f%92%83%f0%9f%95%ba/
LOCATION:Mazowieckie
CATEGORIES:Aktywizujemy
ATTACH;FMTTYPE=image/png:https://fundacjaart.pl/wp-content/uploads/2024/11/462565481_8442293152565244_580966067781017401_n.png
END:VEVENT
END:VCALENDAR