BEGIN:VCALENDAR
VERSION:2.0
PRODID:-//Fundacja ART - ECPv6.15.17.1//NONSGML v1.0//EN
CALSCALE:GREGORIAN
METHOD:PUBLISH
X-WR-CALNAME:Fundacja ART
X-ORIGINAL-URL:https://fundacjaart.pl
X-WR-CALDESC:Wydarzenia dla Fundacja ART
REFRESH-INTERVAL;VALUE=DURATION:PT1H
X-Robots-Tag:noindex
X-PUBLISHED-TTL:PT1H
BEGIN:VTIMEZONE
TZID:Europe/Warsaw
BEGIN:DAYLIGHT
TZOFFSETFROM:+0100
TZOFFSETTO:+0200
TZNAME:CEST
DTSTART:20240331T010000
END:DAYLIGHT
BEGIN:STANDARD
TZOFFSETFROM:+0200
TZOFFSETTO:+0100
TZNAME:CET
DTSTART:20241027T010000
END:STANDARD
BEGIN:DAYLIGHT
TZOFFSETFROM:+0100
TZOFFSETTO:+0200
TZNAME:CEST
DTSTART:20250330T010000
END:DAYLIGHT
BEGIN:STANDARD
TZOFFSETFROM:+0200
TZOFFSETTO:+0100
TZNAME:CET
DTSTART:20251026T010000
END:STANDARD
BEGIN:DAYLIGHT
TZOFFSETFROM:+0100
TZOFFSETTO:+0200
TZNAME:CEST
DTSTART:20260329T010000
END:DAYLIGHT
BEGIN:STANDARD
TZOFFSETFROM:+0200
TZOFFSETTO:+0100
TZNAME:CET
DTSTART:20261025T010000
END:STANDARD
END:VTIMEZONE
BEGIN:VEVENT
DTSTART;TZID=Europe/Warsaw:20250918T080000
DTEND;TZID=Europe/Warsaw:20251113T170000
DTSTAMP:20260420T084611
CREATED:20250722T104235Z
LAST-MODIFIED:20250829T124924Z
UID:26450-1758182400-1763053200@fundacjaart.pl
SUMMARY:Program Wzmacniania Rodziny
DESCRIPTION:Program rekomendowany: profilaktyka selektywna i wskazująca.\n\n\nGrupa odbiorców: dzieci w wieku 10-14 lat oraz ich rodzice / opiekunowie. \nProgram dedykowany jest rodzinom\, w których zaburzone relacje i negatywne zachowania nastolatków rzutują na funkcjonowanie całej rodziny\, stwarzając duże ryzyko podejmowania przez dzieci zachowań ryzykownych\, m.in. używania substancji psychoaktywnych. \nGłównym celem jest ograniczenie używania środków psychoaktywnych oraz innych zachowań problemowych w okresie dojrzewania. \nCele szczegółowe: \n\nrozwijanie umiejętności wychowawczych rodziców / opiekunów i sprawowania\n\nprzez nich kontroli nad dziećmi\, \n\nrozwijanie umiejętności interpersonalnych i prospołecznych u dzieci i młodzieży\,\nwzmacnianie więzi w rodzinie.\n\nCykl zajęć obejmuje: 14h spotkań z dziećmi i 14h spotkań z rodzicami/opiekunami. Część zajęć odbywa się wspólnie. Tematyka zajęć: \nWarsztaty dla rodziców obejmują tematy takie jak: Miłość i granice; Ustalanie zasad domowych; Promowanie dobrego zachowania; Wyciąganie konsekwencji; Budowanie mostów; Ochrona przed używaniem substancji psychoaktywnych; Zapewnienie pomocy rodzinie w wyjątkowych sytuacjach. \nWarsztaty dla dzieci obejmują tematy takie jak: Cele i marzenia; Docenić rodziców; Radzenie sobie ze stresem; Przestrzeganie zasad; Radzenie sobie z presją rówieśniczą; Presja rówieśnicza i prawdziwi przyjaciele; Proszenie innych o pomoc. \nWarsztaty rodzinne poruszą kwestie związane m.in. z wartościami\, komunikacją wewnątrz rodziny\, wspieraniem celów\, marzeń i wzajemnym docenianiem się w rodzinie. \nPROPONOWANE TERMINY SPOTKAŃ w Rodzinnej Klubokawiarni Praskiej Fundacji A.R.T.: \n18.09\,  czwartek\, godz. 17:00 – 20:00 – rodzice \n25.09\, czwartek\, godz. 17:00 – 20:00 – dzieci \n2.10  \,  czwartek\, godz. 17:00 – 20:00 – rodzice \n9.10 \, czwartek\, godz. 17:00 – 20:00 – dzieci \n16.10  \,  czwartek\, godz. 17:00 – 20:00 – rodzicie \n6.11\, czwartek\, godz. 17:00 – 20:00 – dzieci \n13.11\, czwartek\, godz. 17:00 – 20:00 – wspólnie \n20.11\, czwartek\, godz. 17:00 – 20:00 – wspólnie \nProwadząca: Anna Starzyńska Brzuska \n 
URL:https://fundacjaart.pl/nasze-dzialanie/program-wzmacniania-rodziny/
LOCATION:Rodzinna Klubokawiarnia Praska
CATEGORIES:Aktywizujemy,Ratujemy
ATTACH;FMTTYPE=image/jpeg:https://fundacjaart.pl/wp-content/uploads/2025/07/d73339de-b415-4d14-baa2-0a05c9d6daba.jpg
ORGANIZER;CN="Fundacja ART":MAILTO:recepcja@fundacjaart.pl
END:VEVENT
END:VCALENDAR